Workbook

Sheet Inventory
A1: Room | B1: Item | C1: Brand | D1: Model / serial | E1: Quantity | F1: Age or purchase year | G1: Purchase price (each) | H1: Replacement cost (each) | I1: Replacement total | J1: Photo / video reference | K1: Receipt? | L1: Notes
A2: Living room | B2: TV | I2: =IF(AND(E2<>"",H2<>""),E2*H2,"")
A3: Living room | B3: Sofa | I3: =IF(AND(E3<>"",H3<>""),E3*H3,"")
A4: Living room | B4: Coffee table | I4: =IF(AND(E4<>"",H4<>""),E4*H4,"")
A5: Living room | B5: Rug | I5: =IF(AND(E5<>"",H5<>""),E5*H5,"")
A6: Living room | B6: Lamps | I6: =IF(AND(E6<>"",H6<>""),E6*H6,"")
A7: Living room | B7: Game console | I7: =IF(AND(E7<>"",H7<>""),E7*H7,"")
A8: Living room | B8: Books | I8: =IF(AND(E8<>"",H8<>""),E8*H8,"")
A9: Living room | I9: =IF(AND(E9<>"",H9<>""),E9*H9,"")
A10: Living room | I10: =IF(AND(E10<>"",H10<>""),E10*H10,"")
A11: Kitchen | B11: Fridge | I11: =IF(AND(E11<>"",H11<>""),E11*H11,"")
A12: Kitchen | B12: Microwave | I12: =IF(AND(E12<>"",H12<>""),E12*H12,"")
A13: Kitchen | B13: Coffee machine | I13: =IF(AND(E13<>"",H13<>""),E13*H13,"")
A14: Kitchen | B14: Stand mixer | I14: =IF(AND(E14<>"",H14<>""),E14*H14,"")
A15: Kitchen | B15: Cookware set | I15: =IF(AND(E15<>"",H15<>""),E15*H15,"")
A16: Kitchen | B16: Knives | I16: =IF(AND(E16<>"",H16<>""),E16*H16,"")
A17: Kitchen | B17: Dishes and glassware | I17: =IF(AND(E17<>"",H17<>""),E17*H17,"")
A18: Kitchen | I18: =IF(AND(E18<>"",H18<>""),E18*H18,"")
A19: Kitchen | I19: =IF(AND(E19<>"",H19<>""),E19*H19,"")
A20: Dining room | B20: Dining table | I20: =IF(AND(E20<>"",H20<>""),E20*H20,"")
A21: Dining room | B21: Dining chairs | I21: =IF(AND(E21<>"",H21<>""),E21*H21,"")
A22: Dining room | B22: China and serving ware | I22: =IF(AND(E22<>"",H22<>""),E22*H22,"")
A23: Dining room | I23: =IF(AND(E23<>"",H23<>""),E23*H23,"")
A24: Dining room | I24: =IF(AND(E24<>"",H24<>""),E24*H24,"")
A25: Primary bedroom | B25: Bed frame | I25: =IF(AND(E25<>"",H25<>""),E25*H25,"")
A26: Primary bedroom | B26: Mattress | I26: =IF(AND(E26<>"",H26<>""),E26*H26,"")
A27: Primary bedroom | B27: Dresser | I27: =IF(AND(E27<>"",H27<>""),E27*H27,"")
A28: Primary bedroom | B28: Clothing (count by type) | I28: =IF(AND(E28<>"",H28<>""),E28*H28,"")
A29: Primary bedroom | B29: Shoes | I29: =IF(AND(E29<>"",H29<>""),E29*H29,"")
A30: Primary bedroom | B30: Jewelry | I30: =IF(AND(E30<>"",H30<>""),E30*H30,"")
A31: Primary bedroom | I31: =IF(AND(E31<>"",H31<>""),E31*H31,"")
A32: Primary bedroom | I32: =IF(AND(E32<>"",H32<>""),E32*H32,"")
A33: Bedroom 2 | B33: Bed frame | I33: =IF(AND(E33<>"",H33<>""),E33*H33,"")
A34: Bedroom 2 | B34: Mattress | I34: =IF(AND(E34<>"",H34<>""),E34*H34,"")
A35: Bedroom 2 | B35: Desk | I35: =IF(AND(E35<>"",H35<>""),E35*H35,"")
A36: Bedroom 2 | B36: Toys / gear | I36: =IF(AND(E36<>"",H36<>""),E36*H36,"")
A37: Bedroom 2 | I37: =IF(AND(E37<>"",H37<>""),E37*H37,"")
A38: Bedroom 2 | I38: =IF(AND(E38<>"",H38<>""),E38*H38,"")
A39: Bathrooms | B39: Hair dryer | I39: =IF(AND(E39<>"",H39<>""),E39*H39,"")
A40: Bathrooms | B40: Electric toothbrush | I40: =IF(AND(E40<>"",H40<>""),E40*H40,"")
A41: Bathrooms | B41: Towels | I41: =IF(AND(E41<>"",H41<>""),E41*H41,"")
A42: Bathrooms | B42: Cosmetics and skincare | I42: =IF(AND(E42<>"",H42<>""),E42*H42,"")
A43: Bathrooms | I43: =IF(AND(E43<>"",H43<>""),E43*H43,"")
A44: Bathrooms | I44: =IF(AND(E44<>"",H44<>""),E44*H44,"")
A45: Home office | B45: Laptop | I45: =IF(AND(E45<>"",H45<>""),E45*H45,"")
A46: Home office | B46: Monitor | I46: =IF(AND(E46<>"",H46<>""),E46*H46,"")
A47: Home office | B47: Printer | I47: =IF(AND(E47<>"",H47<>""),E47*H47,"")
A48: Home office | B48: Office chair | I48: =IF(AND(E48<>"",H48<>""),E48*H48,"")
A49: Home office | B49: Router | I49: =IF(AND(E49<>"",H49<>""),E49*H49,"")
A50: Home office | I50: =IF(AND(E50<>"",H50<>""),E50*H50,"")
A51: Home office | I51: =IF(AND(E51<>"",H51<>""),E51*H51,"")
A52: Laundry / utility | B52: Washer | I52: =IF(AND(E52<>"",H52<>""),E52*H52,"")
A53: Laundry / utility | B53: Dryer | I53: =IF(AND(E53<>"",H53<>""),E53*H53,"")
A54: Laundry / utility | B54: Vacuum | I54: =IF(AND(E54<>"",H54<>""),E54*H54,"")
A55: Laundry / utility | I55: =IF(AND(E55<>"",H55<>""),E55*H55,"")
A56: Laundry / utility | I56: =IF(AND(E56<>"",H56<>""),E56*H56,"")
A57: Garage / shed | B57: Power tools | I57: =IF(AND(E57<>"",H57<>""),E57*H57,"")
A58: Garage / shed | B58: Bikes | I58: =IF(AND(E58<>"",H58<>""),E58*H58,"")
A59: Garage / shed | B59: Lawn mower | I59: =IF(AND(E59<>"",H59<>""),E59*H59,"")
A60: Garage / shed | B60: Grill | I60: =IF(AND(E60<>"",H60<>""),E60*H60,"")
A61: Garage / shed | B61: Ladder | I61: =IF(AND(E61<>"",H61<>""),E61*H61,"")
A62: Garage / shed | I62: =IF(AND(E62<>"",H62<>""),E62*H62,"")
A63: Garage / shed | I63: =IF(AND(E63<>"",H63<>""),E63*H63,"")
A64: Attic / basement / closets | B64: Holiday decorations | I64: =IF(AND(E64<>"",H64<>""),E64*H64,"")
A65: Attic / basement / closets | B65: Luggage | I65: =IF(AND(E65<>"",H65<>""),E65*H65,"")
A66: Attic / basement / closets | B66: Stored furniture | I66: =IF(AND(E66<>"",H66<>""),E66*H66,"")
A67: Attic / basement / closets | I67: =IF(AND(E67<>"",H67<>""),E67*H67,"")
A68: Attic / basement / closets | I68: =IF(AND(E68<>"",H68<>""),E68*H68,"")

Sheet Summary
A1: Room | B1: Items listed | C1: Replacement total
A2: Living room | B2: =COUNTIFS(Inventory!A2:A68,A2,Inventory!B2:B68,"<>") | C2: =SUMIF(Inventory!A2:A68,A2,Inventory!I2:I68)
A3: Kitchen | B3: =COUNTIFS(Inventory!A2:A68,A3,Inventory!B2:B68,"<>") | C3: =SUMIF(Inventory!A2:A68,A3,Inventory!I2:I68)
A4: Dining room | B4: =COUNTIFS(Inventory!A2:A68,A4,Inventory!B2:B68,"<>") | C4: =SUMIF(Inventory!A2:A68,A4,Inventory!I2:I68)
A5: Primary bedroom | B5: =COUNTIFS(Inventory!A2:A68,A5,Inventory!B2:B68,"<>") | C5: =SUMIF(Inventory!A2:A68,A5,Inventory!I2:I68)
A6: Bedroom 2 | B6: =COUNTIFS(Inventory!A2:A68,A6,Inventory!B2:B68,"<>") | C6: =SUMIF(Inventory!A2:A68,A6,Inventory!I2:I68)
A7: Bathrooms | B7: =COUNTIFS(Inventory!A2:A68,A7,Inventory!B2:B68,"<>") | C7: =SUMIF(Inventory!A2:A68,A7,Inventory!I2:I68)
A8: Home office | B8: =COUNTIFS(Inventory!A2:A68,A8,Inventory!B2:B68,"<>") | C8: =SUMIF(Inventory!A2:A68,A8,Inventory!I2:I68)
A9: Laundry / utility | B9: =COUNTIFS(Inventory!A2:A68,A9,Inventory!B2:B68,"<>") | C9: =SUMIF(Inventory!A2:A68,A9,Inventory!I2:I68)
A10: Garage / shed | B10: =COUNTIFS(Inventory!A2:A68,A10,Inventory!B2:B68,"<>") | C10: =SUMIF(Inventory!A2:A68,A10,Inventory!I2:I68)
A11: Attic / basement / closets | B11: =COUNTIFS(Inventory!A2:A68,A11,Inventory!B2:B68,"<>") | C11: =SUMIF(Inventory!A2:A68,A11,Inventory!I2:I68)
A12: Total | B12: =SUM(B2:B11) | C12: =SUM(C2:C11)

Sheet How to use
A1: 1. Walk each room clockwise. Add a row per item (or per group: 'jeans, 8').
A2: 2. Replacement cost = what it costs to buy new today, not what you paid.
A3: 3. Note where the proof is: photo file name or video timestamp.
A4: 4. Add rooms by typing a new room name in column A, then add it on the Summary tab.
A5: 5. Save a copy off-site (cloud or email to yourself). Update once a year.
A6: Shortcut: film one walkthrough video and get this filled in for you at walktally.com ($39).
